BEGIN:VCALENDAR
VERSION:2.0
PRODID:-//pretix//pretix.eu//
BEGIN:VTIMEZONE
TZID:Europe/Berlin
BEGIN:STANDARD
DTSTART:20001029T040000
RRULE:FREQ=YEARLY;BYDAY=-1SU;BYMONTH=10
TZNAME:CET
TZOFFSETFROM:+0200
TZOFFSETTO:+0100
END:STANDARD
BEGIN:DAYLIGHT
DTSTART:20000326T030000
RRULE:FREQ=YEARLY;BYDAY=-1SU;BYMONTH=3
TZNAME:CEST
TZOFFSETFROM:+0100
TZOFFSETTO:+0200
END:DAYLIGHT
END:VTIMEZONE
BEGIN:VEVENT
UID:pretix-OWBA-einweisung-handmaschinen-4891207@pretix.owba.de
DTSTART;TZID=Europe/Berlin:20260517T100000
DTEND;TZID=Europe/Berlin:20260517T140000
DESCRIPTION:Tickets: https://pretix.owba.de/einweisung-handmaschinen/489120
 7/\nVeranstalter: Offene Werkstatt Bamberg
DTSTAMP:20260422T181828Z
LOCATION:Offene Werkstatt Bamberg\, Lichtenhaidestr. 15\, 96052 Bamberg
SUMMARY:17.05.26: Einweisung Holzbearbeitungsmaschinen: Handmaschinen
END:VEVENT
END:VCALENDAR
