BEGIN:VCALENDAR
VERSION:2.0
PRODID:-//pretix//pretix.eu//
BEGIN:VEVENT
UID:pretix-OWBA-cyanotypie-juni-0@pretix.owba.de
DTSTART;VALUE=DATE:20220617
DTEND;VALUE=DATE:20220619
DESCRIPTION:Tickets: https://pretix.owba.de/cyanotypie-juni/\nVeranstalter:
  Offene Werkstatt Bamberg
DTSTAMP:20260419T161403Z
LOCATION:Offene Werkstatt Bamberg\, Weißenburgstraße 10\, 96052 Bamberg
SUMMARY:Cyanotypie
END:VEVENT
END:VCALENDAR
